BEGIN:VCALENDAR
VERSION:2.0
PRODID:icalendar-ruby
CALSCALE:GREGORIAN
METHOD:PUBLISH
BEGIN:VEVENT
DTSTAMP:20260425T170648Z
UID:864da25c-2514-4900-b823-7c0fcbeb69a3
DTSTART;VALUE=DATE:20180801
DTEND;VALUE=DATE:20180801
DESCRIPTION:North Shore BMX
LOCATION:1301 Lillooet Road  North Vancouver BC V7J 3T7 CAN
SUMMARY:Standard Single Single
URL:/site/bmx_races/371621
END:VEVENT
END:VCALENDAR
