BEGIN:VCALENDAR
VERSION:2.0
PRODID:icalendar-ruby
CALSCALE:GREGORIAN
METHOD:PUBLISH
BEGIN:VEVENT
DTSTAMP:20260423T105922Z
UID:83a0c23e-ca6f-46f7-86ac-3af1117b7c2a
DTSTART;VALUE=DATE:20180808
DTEND;VALUE=DATE:20180808
DESCRIPTION:North Shore BMX
LOCATION:1301 Lillooet Road  North Vancouver BC V7J 3T7 CAN
SUMMARY:Standard Single Single
URL:/site/bmx_races/371622
END:VEVENT
END:VCALENDAR
