BEGIN:VCALENDAR
VERSION:2.0
PRODID:icalendar-ruby
CALSCALE:GREGORIAN
METHOD:PUBLISH
BEGIN:VEVENT
DTSTAMP:20260425T202250Z
UID:4f76160d-145a-4ebc-812f-10685ea477b1
DTSTART;VALUE=DATE:20180601
DTEND;VALUE=DATE:20180601
DESCRIPTION:North Shore BMX
LOCATION:1301 Lillooet Road  North Vancouver BC V7J 3T7 CAN
SUMMARY:Practice
URL:/site/bmx_races/371633
END:VEVENT
END:VCALENDAR
