BEGIN:VCALENDAR
VERSION:2.0
PRODID:icalendar-ruby
CALSCALE:GREGORIAN
METHOD:PUBLISH
BEGIN:VEVENT
DTSTAMP:20260423T230051Z
UID:a251ab7a-e7f8-4e10-9a1c-f55620ecbe8b
DTSTART;VALUE=DATE:20180626
DTEND;VALUE=DATE:20180626
DESCRIPTION:Lake Havasu City BMX
LOCATION:7260 Mc Culloch Blvd S. #B  Lake Havasu City AZ 86406 USA
SUMMARY:Standard Single Single
URL:/site/bmx_races/372077
END:VEVENT
END:VCALENDAR
