BEGIN:VCALENDAR
VERSION:2.0
PRODID:icalendar-ruby
CALSCALE:GREGORIAN
METHOD:PUBLISH
BEGIN:VEVENT
DTSTAMP:20260425T102057Z
UID:8f8ee3f2-91a1-4bf2-aae4-45a0b15bc594
DTSTART;VALUE=DATE:20130814
DTEND;VALUE=DATE:20130814
DESCRIPTION:Midland BMX
LOCATION:3950 E Ashman St  Midland MI 48642 USA
SUMMARY:Race for Life Double
URL:/site/bmx_races/37208
END:VEVENT
END:VCALENDAR
