BEGIN:VCALENDAR
VERSION:2.0
PRODID:icalendar-ruby
CALSCALE:GREGORIAN
METHOD:PUBLISH
BEGIN:VEVENT
DTSTAMP:20260425T035351Z
UID:33e306cf-2bf5-4aa6-b856-b712ce1571dc
DTSTART;VALUE=DATE:20180418
DTEND;VALUE=DATE:20180418
DESCRIPTION:Grand Prix BMX at SoCal Fair
LOCATION:18700 Lake Perris Dr  Perris CA 92571 USA
SUMMARY:Standard Single Single
URL:/site/bmx_races/372865
END:VEVENT
END:VCALENDAR
