BEGIN:VCALENDAR
VERSION:2.0
PRODID:icalendar-ruby
CALSCALE:GREGORIAN
METHOD:PUBLISH
BEGIN:VEVENT
DTSTAMP:20260423T080523Z
UID:0584d0fa-83de-4e62-b973-4e76c7b3ee41
DTSTART;VALUE=DATE:20180324
DTEND;VALUE=DATE:20180324
DESCRIPTION:Rum River BMX
LOCATION:Isanti Parkway Northwest  Isanti MN 55040 USA
SUMMARY:Standard Single Single
URL:/site/bmx_races/373366
END:VEVENT
END:VCALENDAR
