BEGIN:VCALENDAR
VERSION:2.0
PRODID:icalendar-ruby
CALSCALE:GREGORIAN
METHOD:PUBLISH
BEGIN:VEVENT
DTSTAMP:20260424T023834Z
UID:437a95c4-71cd-47a5-bdf0-e4bda0477e90
DTSTART;VALUE=DATE:20130622
DTEND;VALUE=DATE:20130622
DESCRIPTION:Lexington BMX
LOCATION:1159 Nazareth Road  Lexington SC 29073 USA
SUMMARY:Olympic Day Single
URL:/site/bmx_races/37361
END:VEVENT
END:VCALENDAR
