BEGIN:VCALENDAR
VERSION:2.0
PRODID:icalendar-ruby
CALSCALE:GREGORIAN
METHOD:PUBLISH
BEGIN:VEVENT
DTSTAMP:20260423T171044Z
UID:9a30cfa8-eed7-4cdb-a86f-790629299b9c
DTSTART;VALUE=DATE:20131207
DTEND;VALUE=DATE:20131207
DESCRIPTION:Lexington BMX
LOCATION:1159 Nazareth Road  Lexington SC 29073 USA
SUMMARY:Earned Double
URL:/site/bmx_races/37362
END:VEVENT
END:VCALENDAR
