BEGIN:VCALENDAR
VERSION:2.0
PRODID:icalendar-ruby
CALSCALE:GREGORIAN
METHOD:PUBLISH
BEGIN:VEVENT
DTSTAMP:20260420T081950Z
UID:1c03a538-41ff-4296-a766-07f7251229be
DTSTART;VALUE=DATE:20180314
DTEND;VALUE=DATE:20180314
DESCRIPTION:Naples BMX
LOCATION:4701 Golden Gate Parkway  Naples FL 34116 USA
SUMMARY:Practice
URL:/site/bmx_races/373637
END:VEVENT
END:VCALENDAR
