BEGIN:VCALENDAR
VERSION:2.0
PRODID:icalendar-ruby
CALSCALE:GREGORIAN
METHOD:PUBLISH
BEGIN:VEVENT
DTSTAMP:20260424T234528Z
UID:f2cf3291-f471-4824-91a7-74fcf7d0217a
DTSTART;VALUE=DATE:20180301
DTEND;VALUE=DATE:20180301
DESCRIPTION:Circle City BMX
LOCATION:Westgate Park    100 Recreation Rd Dothan AL 36305 USA
SUMMARY:Practice
URL:/site/bmx_races/373961
END:VEVENT
END:VCALENDAR
