BEGIN:VCALENDAR
VERSION:2.0
PRODID:icalendar-ruby
CALSCALE:GREGORIAN
METHOD:PUBLISH
BEGIN:VEVENT
DTSTAMP:20260424T193650Z
UID:9a261137-d150-4d7d-b872-5ecafd985dfc
DTSTART;VALUE=DATE:20180614
DTEND;VALUE=DATE:20180614
DESCRIPTION:Circle City BMX
LOCATION:Westgate Park    100 Recreation Rd Dothan AL 36305 USA
SUMMARY:Practice
URL:/site/bmx_races/374005
END:VEVENT
END:VCALENDAR
