BEGIN:VCALENDAR
VERSION:2.0
PRODID:icalendar-ruby
CALSCALE:GREGORIAN
METHOD:PUBLISH
BEGIN:VEVENT
DTSTAMP:20260424T150306Z
UID:0e908a59-7d12-46bd-8c34-6563b4fe5a23
DTSTART;VALUE=DATE:20180902
DTEND;VALUE=DATE:20180902
DESCRIPTION:Circle City BMX
LOCATION:Westgate Park    100 Recreation Rd Dothan AL 36305 USA
SUMMARY:Local Race Single
URL:/site/bmx_races/374039
END:VEVENT
END:VCALENDAR
