BEGIN:VCALENDAR
VERSION:2.0
PRODID:icalendar-ruby
CALSCALE:GREGORIAN
METHOD:PUBLISH
BEGIN:VEVENT
DTSTAMP:20260423T085643Z
UID:7782baa7-a8ab-4b90-9b0a-80ca07f68c2b
DTSTART;VALUE=DATE:20180307
DTEND;VALUE=DATE:20180307
DESCRIPTION:Yucca Valley BMX
LOCATION:6989 Sage Ave  Yucca Valley CA 92234 USA
SUMMARY:Standard Single Single
URL:/site/bmx_races/374109
END:VEVENT
END:VCALENDAR
