BEGIN:VCALENDAR
VERSION:2.0
PRODID:icalendar-ruby
CALSCALE:GREGORIAN
METHOD:PUBLISH
BEGIN:VEVENT
DTSTAMP:20260423T070230Z
UID:e3dd14d2-af03-4698-b8c1-101106e792ac
DTSTART;VALUE=DATE:20180409
DTEND;VALUE=DATE:20180409
DESCRIPTION:Yucca Valley BMX
LOCATION:6989 Sage Ave  Yucca Valley CA 92234 USA
SUMMARY:Standard Single Single
URL:/site/bmx_races/374119
END:VEVENT
END:VCALENDAR
