BEGIN:VCALENDAR
VERSION:2.0
PRODID:icalendar-ruby
CALSCALE:GREGORIAN
METHOD:PUBLISH
BEGIN:VEVENT
DTSTAMP:20260423T053240Z
UID:16ca01eb-fbdd-48a8-a920-39eeaf2a07d7
DTSTART;VALUE=DATE:20180530
DTEND;VALUE=DATE:20180530
DESCRIPTION:Yucca Valley BMX
LOCATION:6989 Sage Ave  Yucca Valley CA 92234 USA
SUMMARY:Local Race Single
URL:/site/bmx_races/374136
END:VEVENT
END:VCALENDAR
