BEGIN:VCALENDAR
VERSION:2.0
PRODID:icalendar-ruby
CALSCALE:GREGORIAN
METHOD:PUBLISH
BEGIN:VEVENT
DTSTAMP:20260422T230946Z
UID:bb0e1f73-85a7-4d1b-b7c5-da636e8024a6
DTSTART;VALUE=DATE:20180905
DTEND;VALUE=DATE:20180905
DESCRIPTION:Yucca Valley BMX
LOCATION:6989 Sage Ave  Yucca Valley CA 92234 USA
SUMMARY:Standard Single Single
URL:/site/bmx_races/374168
END:VEVENT
END:VCALENDAR
