BEGIN:VCALENDAR
VERSION:2.0
PRODID:icalendar-ruby
CALSCALE:GREGORIAN
METHOD:PUBLISH
BEGIN:VEVENT
DTSTAMP:20260422T195644Z
UID:7ded0465-1c88-4165-b7e3-d8f6eb2b1d5d
DTSTART;VALUE=DATE:20181112
DTEND;VALUE=DATE:20181112
DESCRIPTION:Yucca Valley BMX
LOCATION:6989 Sage Ave  Yucca Valley CA 92234 USA
SUMMARY:Standard Single Single
URL:/site/bmx_races/374196
END:VEVENT
END:VCALENDAR
