BEGIN:VCALENDAR
VERSION:2.0
PRODID:icalendar-ruby
CALSCALE:GREGORIAN
METHOD:PUBLISH
BEGIN:VEVENT
DTSTAMP:20260420T130246Z
UID:d28936fd-2d1d-48f3-bd93-b20fd013e026
DTSTART;VALUE=DATE:20180412
DTEND;VALUE=DATE:20180412
DESCRIPTION:Sandy Ridge BMX
LOCATION:1200 Keys Ferry Rd  McDonough GA 30253 USA
SUMMARY:Practice
URL:/site/bmx_races/374288
END:VEVENT
END:VCALENDAR
