BEGIN:VCALENDAR
VERSION:2.0
PRODID:icalendar-ruby
CALSCALE:GREGORIAN
METHOD:PUBLISH
BEGIN:VEVENT
DTSTAMP:20260420T112958Z
UID:dde1e83a-172e-4628-912b-b47fa50fd078
DTSTART;VALUE=DATE:20180531
DTEND;VALUE=DATE:20180531
DESCRIPTION:Sandy Ridge BMX
LOCATION:1200 Keys Ferry Rd  McDonough GA 30253 USA
SUMMARY:Practice
URL:/site/bmx_races/374295
END:VEVENT
END:VCALENDAR
