BEGIN:VCALENDAR
VERSION:2.0
PRODID:icalendar-ruby
CALSCALE:GREGORIAN
METHOD:PUBLISH
BEGIN:VEVENT
DTSTAMP:20260420T094843Z
UID:4fde797a-19ab-407e-b2bf-34e80e133fd4
DTSTART;VALUE=DATE:20180602
DTEND;VALUE=DATE:20180602
DESCRIPTION:Sandy Ridge BMX
LOCATION:1200 Keys Ferry Rd  McDonough GA 30253 USA
SUMMARY:Race for Life Single
URL:/site/bmx_races/374462
END:VEVENT
END:VCALENDAR
