BEGIN:VCALENDAR
VERSION:2.0
PRODID:icalendar-ruby
CALSCALE:GREGORIAN
METHOD:PUBLISH
BEGIN:VEVENT
DTSTAMP:20260425T202313Z
UID:a7c41af7-ae5f-45f5-a533-a35142dffda6
DTSTART;VALUE=DATE:20180713
DTEND;VALUE=DATE:20180713
DESCRIPTION:Boulder BMX\, Inc
LOCATION:1799 Commons Way  Boulder City NV 89005 USA
SUMMARY:Local Race Single
URL:/site/bmx_races/374513
END:VEVENT
END:VCALENDAR
