BEGIN:VCALENDAR
VERSION:2.0
PRODID:icalendar-ruby
CALSCALE:GREGORIAN
METHOD:PUBLISH
BEGIN:VEVENT
DTSTAMP:20260423T040810Z
UID:ed969c4b-2cbe-4425-8c95-a921378c5025
DTSTART;VALUE=DATE:20180502
DTEND;VALUE=DATE:20180502
DESCRIPTION:Langley BMX
LOCATION:4375 206 St Langley  Langley BC V3A 3B1 CAN
SUMMARY:Standard Single Single
URL:/site/bmx_races/374673
END:VEVENT
END:VCALENDAR
