BEGIN:VCALENDAR
VERSION:2.0
PRODID:icalendar-ruby
CALSCALE:GREGORIAN
METHOD:PUBLISH
BEGIN:VEVENT
DTSTAMP:20260422T165116Z
UID:13c90bd3-15a4-47b9-b84a-30379729b1a5
DTSTART;VALUE=DATE:20180219
DTEND;VALUE=DATE:20180219
DESCRIPTION:Peninsula Indoor BMX
LOCATION:5867 Dogwood Road Se  Port Orchard WA 98367 USA
SUMMARY:Birthday Party
URL:/site/bmx_races/374718
END:VEVENT
END:VCALENDAR
