BEGIN:VCALENDAR
VERSION:2.0
PRODID:icalendar-ruby
CALSCALE:GREGORIAN
METHOD:PUBLISH
BEGIN:VEVENT
DTSTAMP:20260426T002444Z
UID:d76209c3-45cf-4170-8856-aae881716ad6
DTSTART;VALUE=DATE:20180716
DTEND;VALUE=DATE:20180716
DESCRIPTION:Eagle Park BMX
LOCATION:11800 N Horseshoe Bend Rd  Eagle ID 83616 USA
SUMMARY:Practice
URL:/site/bmx_races/376188
END:VEVENT
END:VCALENDAR
