BEGIN:VCALENDAR
VERSION:2.0
PRODID:icalendar-ruby
CALSCALE:GREGORIAN
METHOD:PUBLISH
BEGIN:VEVENT
DTSTAMP:20260423T220334Z
UID:ce5930c1-daf7-4213-9cf5-380ce29affd3
DTSTART;VALUE=DATE:20190803
DTEND;VALUE=DATE:20190803
DESCRIPTION:Desoto BMX
LOCATION:Grimes Park 500 E. Centre Park Blvd Desoto TX 75115 USA
SUMMARY:Standard Single Single
URL:/site/bmx_races/376612
END:VEVENT
END:VCALENDAR
