BEGIN:VCALENDAR
VERSION:2.0
PRODID:icalendar-ruby
CALSCALE:GREGORIAN
METHOD:PUBLISH
BEGIN:VEVENT
DTSTAMP:20260423T211545Z
UID:2413602e-b285-4262-b778-747607450a64
DTSTART;VALUE=DATE:20190831
DTEND;VALUE=DATE:20190831
DESCRIPTION:Desoto BMX
LOCATION:Grimes Park 500 E. Centre Park Blvd Desoto TX 75115 USA
SUMMARY:Standard Single Single
URL:/site/bmx_races/376628
END:VEVENT
END:VCALENDAR
