BEGIN:VCALENDAR
VERSION:2.0
PRODID:icalendar-ruby
CALSCALE:GREGORIAN
METHOD:PUBLISH
BEGIN:VEVENT
DTSTAMP:20260422T153950Z
UID:f052058f-c404-4acc-b378-7d3b13f5c48f
DTSTART;VALUE=DATE:20180505
DTEND;VALUE=DATE:20180505
DESCRIPTION:Metro BMX
LOCATION:3805 Chester Ave  In The Sam Lynn Ballpark Complex Bakersfield CA 
 93301 USA
SUMMARY:Earned Double
URL:/site/bmx_races/376827
END:VEVENT
END:VCALENDAR
