BEGIN:VCALENDAR
VERSION:2.0
PRODID:icalendar-ruby
CALSCALE:GREGORIAN
METHOD:PUBLISH
BEGIN:VEVENT
DTSTAMP:20260425T112327Z
UID:3e649557-6761-44a7-b0e8-c7a93633a4aa
DTSTART;VALUE=DATE:20180629
DTEND;VALUE=DATE:20180629
DESCRIPTION:St. Peters BMX
LOCATION:100 Brown Rd  St. Peters MO 63376 USA
SUMMARY:Standard Single Single
URL:/site/bmx_races/376895
END:VEVENT
END:VCALENDAR
