BEGIN:VCALENDAR
VERSION:2.0
PRODID:icalendar-ruby
CALSCALE:GREGORIAN
METHOD:PUBLISH
BEGIN:VEVENT
DTSTAMP:20260423T003042Z
UID:3b52e6bd-a9ba-4650-bf0c-20156454a1fc
DTSTART;VALUE=DATE:20181104
DTEND;VALUE=DATE:20181104
DESCRIPTION:Southern Maryland BMX
LOCATION:26600 Budds Creek Rd  Mechanicsville MD 20659 USA
SUMMARY:Earned Double
URL:/site/bmx_races/377029
END:VEVENT
END:VCALENDAR
