BEGIN:VCALENDAR
VERSION:2.0
PRODID:icalendar-ruby
CALSCALE:GREGORIAN
METHOD:PUBLISH
BEGIN:VEVENT
DTSTAMP:20260425T000815Z
UID:056ceacd-6501-474d-83e2-81b76379cfda
DTSTART;VALUE=DATE:20180718
DTEND;VALUE=DATE:20180718
DESCRIPTION:CNY BMX
LOCATION:408 Pritchard Ave  Bridgewater NY 13313 USA
SUMMARY:Standard Single Single
URL:/site/bmx_races/377400
END:VEVENT
END:VCALENDAR
