BEGIN:VCALENDAR
VERSION:2.0
PRODID:icalendar-ruby
CALSCALE:GREGORIAN
METHOD:PUBLISH
BEGIN:VEVENT
DTSTAMP:20260423T072533Z
UID:0a5ee2b8-6690-4cc1-88b1-e8df1d5ae102
DTSTART;VALUE=DATE:20180619
DTEND;VALUE=DATE:20180619
DESCRIPTION:Yukon BMX
LOCATION:Taylor Park Sports Complex   410 N 11th St Yukon OK 73064 USA
SUMMARY:Practice
URL:/site/bmx_races/377966
END:VEVENT
END:VCALENDAR
