BEGIN:VCALENDAR
VERSION:2.0
PRODID:icalendar-ruby
CALSCALE:GREGORIAN
METHOD:PUBLISH
BEGIN:VEVENT
DTSTAMP:20260423T072536Z
UID:bf23429a-d7e4-44ff-a4eb-0dd1152f71cb
DTSTART;VALUE=DATE:20180621
DTEND;VALUE=DATE:20180621
DESCRIPTION:Yukon BMX
LOCATION:Taylor Park Sports Complex   410 N 11th St Yukon OK 73064 USA
SUMMARY:Practice
URL:/site/bmx_races/378008
END:VEVENT
END:VCALENDAR
