BEGIN:VCALENDAR
VERSION:2.0
PRODID:icalendar-ruby
CALSCALE:GREGORIAN
METHOD:PUBLISH
BEGIN:VEVENT
DTSTAMP:20260423T055243Z
UID:8866411e-eac2-4551-8d1b-5516dbfc78a0
DTSTART;VALUE=DATE:20180714
DTEND;VALUE=DATE:20180714
DESCRIPTION:Yukon BMX
LOCATION:Taylor Park Sports Complex   410 N 11th St Yukon OK 73064 USA
SUMMARY:Standard Single Single
URL:/site/bmx_races/378073
END:VEVENT
END:VCALENDAR
