BEGIN:VCALENDAR
VERSION:2.0
PRODID:icalendar-ruby
CALSCALE:GREGORIAN
METHOD:PUBLISH
BEGIN:VEVENT
DTSTAMP:20260423T055240Z
UID:d6e58441-57f7-4307-a273-ec4b6d7c03e7
DTSTART;VALUE=DATE:20180721
DTEND;VALUE=DATE:20180721
DESCRIPTION:Yukon BMX
LOCATION:Taylor Park Sports Complex   410 N 11th St Yukon OK 73064 USA
SUMMARY:Local Race Single
URL:/site/bmx_races/378074
END:VEVENT
END:VCALENDAR
