BEGIN:VCALENDAR
VERSION:2.0
PRODID:icalendar-ruby
CALSCALE:GREGORIAN
METHOD:PUBLISH
BEGIN:VEVENT
DTSTAMP:20260422T212452Z
UID:936a9a58-8568-4ac7-ba3d-8ce2c8d05eaf
DTSTART;VALUE=DATE:20181215
DTEND;VALUE=DATE:20181215
DESCRIPTION:Yukon BMX
LOCATION:Taylor Park Sports Complex   410 N 11th St Yukon OK 73064 USA
SUMMARY:Local Race Single
URL:/site/bmx_races/378095
END:VEVENT
END:VCALENDAR
