BEGIN:VCALENDAR
VERSION:2.0
PRODID:icalendar-ruby
CALSCALE:GREGORIAN
METHOD:PUBLISH
BEGIN:VEVENT
DTSTAMP:20260419T155524Z
UID:735a41e4-6a46-46c5-b32f-500523eafb0b
DTSTART;VALUE=DATE:20180220
DTEND;VALUE=DATE:20180220
DESCRIPTION:Mag Ridge BMX Park
LOCATION:344 Oldtown Crossing  Ridgeland MS 39157 USA
SUMMARY:Standard Single Single
URL:/site/bmx_races/378285
END:VEVENT
END:VCALENDAR
