BEGIN:VCALENDAR
VERSION:2.0
PRODID:icalendar-ruby
CALSCALE:GREGORIAN
METHOD:PUBLISH
BEGIN:VEVENT
DTSTAMP:20260419T214420Z
UID:c7df6f5f-7812-4707-a740-f77ba52f23cf
DTSTART;VALUE=DATE:20180621
DTEND;VALUE=DATE:20180621
DESCRIPTION:Falcon BMX
LOCATION:Falcon Field 200 Westfield Road Meriden CT 06450 USA
SUMMARY:Standard Single Single
URL:/site/bmx_races/378579
END:VEVENT
END:VCALENDAR
