BEGIN:VCALENDAR
VERSION:2.0
PRODID:icalendar-ruby
CALSCALE:GREGORIAN
METHOD:PUBLISH
BEGIN:VEVENT
DTSTAMP:20260425T000821Z
UID:3b78afa2-266d-443e-b0f1-b16d9c7a0dfc
DTSTART;VALUE=DATE:20180506
DTEND;VALUE=DATE:20180506
DESCRIPTION:Music City BMX Association
LOCATION:2901 Bell Road  Nashville TN 37217 USA
SUMMARY:Standard Single Single
URL:/site/bmx_races/379644
END:VEVENT
END:VCALENDAR
