BEGIN:VCALENDAR
VERSION:2.0
PRODID:icalendar-ruby
CALSCALE:GREGORIAN
METHOD:PUBLISH
BEGIN:VEVENT
DTSTAMP:20260425T144817Z
UID:942542aa-f148-4bfd-83cd-d4fad221ff2b
DTSTART;VALUE=DATE:20180604
DTEND;VALUE=DATE:20180604
DESCRIPTION:Twin Silo BMX
LOCATION:5400 Ziegler Rd.   Ft Collins CO 80528 USA
SUMMARY:Practice
URL:/site/bmx_races/380419
END:VEVENT
END:VCALENDAR
