BEGIN:VCALENDAR
VERSION:2.0
PRODID:icalendar-ruby
CALSCALE:GREGORIAN
METHOD:PUBLISH
BEGIN:VEVENT
DTSTAMP:20260426T022322Z
UID:92c9c16b-afb3-4a6e-8f99-4c30c2f06b4c
DTSTART;VALUE=DATE:20180417
DTEND;VALUE=DATE:20180417
DESCRIPTION:Oceanside BMX
LOCATION:354 Park Rd  Qualicum Beach BC V9Y3R5 CAN
SUMMARY:Local Race Single
URL:/site/bmx_races/380714
END:VEVENT
END:VCALENDAR
