BEGIN:VCALENDAR
VERSION:2.0
PRODID:icalendar-ruby
CALSCALE:GREGORIAN
METHOD:PUBLISH
BEGIN:VEVENT
DTSTAMP:20260422T070914Z
UID:186fc9f2-fa8f-45d3-8cc4-20b3df5c3d95
DTSTART;VALUE=DATE:20180816
DTEND;VALUE=DATE:20180816
DESCRIPTION:Rad Canyon BMX
LOCATION:5200 W 9800 S  West Jordan UT 84081 USA
SUMMARY:Warnicke Single
URL:/site/bmx_races/380847
END:VEVENT
END:VCALENDAR
