BEGIN:VCALENDAR
VERSION:2.0
PRODID:icalendar-ruby
CALSCALE:GREGORIAN
METHOD:PUBLISH
BEGIN:VEVENT
DTSTAMP:20260422T070733Z
UID:3bdc9076-8e6d-4c99-b6e7-952731a7fa63
DTSTART;VALUE=DATE:20180828
DTEND;VALUE=DATE:20180828
DESCRIPTION:Rad Canyon BMX
LOCATION:5200 W 9800 S  West Jordan UT 84081 USA
SUMMARY:Practice
URL:/site/bmx_races/380902
END:VEVENT
END:VCALENDAR
