BEGIN:VCALENDAR
VERSION:2.0
PRODID:icalendar-ruby
CALSCALE:GREGORIAN
METHOD:PUBLISH
BEGIN:VEVENT
DTSTAMP:20260423T204655Z
UID:e37d1e07-27af-4f66-8aca-f8dc5ba36e18
DTSTART;VALUE=DATE:20180608
DTEND;VALUE=DATE:20180608
DESCRIPTION:Deseret Peak BMX 
LOCATION:2930 West Hwy 112  Tooele UT 84074 USA
SUMMARY:Standard Single Single
URL:/site/bmx_races/381223
END:VEVENT
END:VCALENDAR
