BEGIN:VCALENDAR
VERSION:2.0
PRODID:icalendar-ruby
CALSCALE:GREGORIAN
METHOD:PUBLISH
BEGIN:VEVENT
DTSTAMP:20260422T201702Z
UID:6c5b95b6-aba7-4a24-a59b-39b8f74c6b59
DTSTART;VALUE=DATE:20180519
DTEND;VALUE=DATE:20180519
DESCRIPTION:Rogue Valley BMX
LOCATION:Highland Drive  Medford OR 97504 USA
SUMMARY:Race For Life Single
URL:/site/bmx_races/381518
END:VEVENT
END:VCALENDAR
