BEGIN:VCALENDAR
VERSION:2.0
PRODID:icalendar-ruby
CALSCALE:GREGORIAN
METHOD:PUBLISH
BEGIN:VEVENT
DTSTAMP:20260423T140000Z
UID:e13a9691-0ac6-4dec-85aa-c7a96d03146f
DTSTART;VALUE=DATE:20180202
DTEND;VALUE=DATE:20180202
DESCRIPTION:Cargill Park BMX
LOCATION:2800 Cargill Drive  Shreveport LA 71108 USA
SUMMARY:Standard Single Single
URL:/site/bmx_races/381528
END:VEVENT
END:VCALENDAR
