BEGIN:VCALENDAR
VERSION:2.0
PRODID:icalendar-ruby
CALSCALE:GREGORIAN
METHOD:PUBLISH
BEGIN:VEVENT
DTSTAMP:20260423T021717Z
UID:f3b9ef5f-fc6b-42cb-8efb-7483f4e0600a
DTSTART;VALUE=DATE:20180701
DTEND;VALUE=DATE:20180701
DESCRIPTION:Yucca Valley BMX
LOCATION:6989 Sage Ave  Yucca Valley CA 92234 USA
SUMMARY:Standard Single Single
URL:/site/bmx_races/381713
END:VEVENT
END:VCALENDAR
