BEGIN:VCALENDAR
VERSION:2.0
PRODID:icalendar-ruby
CALSCALE:GREGORIAN
METHOD:PUBLISH
BEGIN:VEVENT
DTSTAMP:20260425T104118Z
UID:6cd51d3a-8919-486c-bc77-ea0df95d1f91
DTSTART;VALUE=DATE:20181208
DTEND;VALUE=DATE:20181208
DESCRIPTION:First State BMX
LOCATION:1045 N Walnut St  Milford DE 19963 USA
SUMMARY:Standard Single Single
URL:/site/bmx_races/381742
END:VEVENT
END:VCALENDAR
