BEGIN:VCALENDAR
VERSION:2.0
PRODID:icalendar-ruby
CALSCALE:GREGORIAN
METHOD:PUBLISH
BEGIN:VEVENT
DTSTAMP:20260424T100710Z
UID:de70140f-5c90-4b15-af85-98fb2e102c6a
DTSTART;VALUE=DATE:20130421
DTEND;VALUE=DATE:20130421
DESCRIPTION:Seatac BMX
LOCATION:1855 S 136th St  Sea Tac WA 98168 USA
SUMMARY:Local Race Single
URL:/site/bmx_races/38186
END:VEVENT
END:VCALENDAR
