BEGIN:VCALENDAR
VERSION:2.0
PRODID:icalendar-ruby
CALSCALE:GREGORIAN
METHOD:PUBLISH
BEGIN:VEVENT
DTSTAMP:20260424T082953Z
UID:1da94f77-ac83-4777-9243-a7720ac40f51
DTSTART;VALUE=DATE:20130519
DTEND;VALUE=DATE:20130519
DESCRIPTION:Seatac BMX
LOCATION:1855 S 136th St  Sea Tac WA 98168 USA
SUMMARY:Local Race Single
URL:/site/bmx_races/38195
END:VEVENT
END:VCALENDAR
